BEGIN:VCALENDAR
VERSION:2.0
PRODID:-//The Poole Yacht Club - ECPv6.15.20//NONSGML v1.0//EN
CALSCALE:GREGORIAN
METHOD:PUBLISH
X-WR-CALNAME:The Poole Yacht Club
X-ORIGINAL-URL:https://pooleyc.com
X-WR-CALDESC:Events for The Poole Yacht Club
REFRESH-INTERVAL;VALUE=DURATION:PT1H
X-Robots-Tag:noindex
X-PUBLISHED-TTL:PT1H
BEGIN:VTIMEZONE
TZID:UTC
BEGIN:STANDARD
TZOFFSETFROM:+0000
TZOFFSETTO:+0000
TZNAME:UTC
DTSTART:20250101T000000
END:STANDARD
END:VTIMEZONE
BEGIN:VEVENT
DTSTART;TZID=UTC:20260418T120000
DTEND;TZID=UTC:20260419T150000
DTSTAMP:20260419T143448
CREATED:20260304T145359Z
LAST-MODIFIED:20260414T135906Z
UID:2242-1776513600-1776610800@pooleyc.com
SUMMARY:Cherub/ISO/International Canoe Open Event
DESCRIPTION:Please Click here for the NoR \nThe Sailing Instructions can be found here. \nEntry to the event can be made here \n 
URL:https://pooleyc.com/event/cherub-iso-international-canoe-open-event/
CATEGORIES:Sailing
END:VEVENT
END:VCALENDAR