BEGIN:VCALENDAR
VERSION:2.0
PRODID:-//The Poole Yacht Club - ECPv6.15.20//NONSGML v1.0//EN
CALSCALE:GREGORIAN
METHOD:PUBLISH
X-WR-CALNAME:The Poole Yacht Club
X-ORIGINAL-URL:https://pooleyc.com
X-WR-CALDESC:Events for The Poole Yacht Club
REFRESH-INTERVAL;VALUE=DURATION:PT1H
X-Robots-Tag:noindex
X-PUBLISHED-TTL:PT1H
BEGIN:VTIMEZONE
TZID:UTC
BEGIN:STANDARD
TZOFFSETFROM:+0000
TZOFFSETTO:+0000
TZNAME:UTC
DTSTART:20250101T000000
END:STANDARD
END:VTIMEZONE
BEGIN:VEVENT
DTSTART;TZID=UTC:20260424T190000
DTEND;TZID=UTC:20260424T210000
DTSTAMP:20260424T135414
CREATED:20260421T101145Z
LAST-MODIFIED:20260421T104357Z
UID:2607-1777057200-1777064400@pooleyc.com
SUMMARY:Friday - Fish and Chips
DESCRIPTION:FISH & CHIPS NIGHT \n🎣 2 for £25.00 🎣 \nEnjoy a classic favourite with great company at the Club! \nBooking through the bar \n👉 Don’t miss out – join us!
URL:https://pooleyc.com/event/friday-fish-and-chips/
CATEGORIES:Social
END:VEVENT
END:VCALENDAR