BEGIN:VCALENDAR
VERSION:2.0
PRODID:-//The Poole Yacht Club - ECPv6.15.20//NONSGML v1.0//EN
CALSCALE:GREGORIAN
METHOD:PUBLISH
X-ORIGINAL-URL:https://pooleyc.com
X-WR-CALDESC:Events for The Poole Yacht Club
REFRESH-INTERVAL;VALUE=DURATION:PT1H
X-Robots-Tag:noindex
X-PUBLISHED-TTL:PT1H
BEGIN:VTIMEZONE
TZID:UTC
BEGIN:STANDARD
TZOFFSETFROM:+0000
TZOFFSETTO:+0000
TZNAME:UTC
DTSTART:20250101T000000
END:STANDARD
END:VTIMEZONE
BEGIN:VEVENT
DTSTART;TZID=UTC:20260425T100000
DTEND;TZID=UTC:20260425T130000
DTSTAMP:20260423T103838
CREATED:20260201T154630Z
LAST-MODIFIED:20260417T011452Z
UID:2007-1777111200-1777122000@pooleyc.com
SUMMARY:PYC Boat Jumble 2026
DESCRIPTION:One man’s boat bits is another man’s treasure\, so don’t miss the chance to clear out all your unused or used boat stuff that you no longer need or use. \nWe are setting up in and around the Academy and Car Park by the PYC Haven Office. You can book a parking/boot space\, a Boat space\, or an undercover table space\, see below for space sizes. All proceeds go to the Commodores Charity. \nThis is your chance to have a clear out\, and it’s now takes the place of the PYC boat auction\, so we hope you take the chance to sell all your unwanted boat jumble to make some money\, and help others that need your no longer needed boat equipment and stuff. \nThere are three types of selling spots available: \n1. Car Park/Boot Space. £15 \n2. Boat Space (max. 5 meters). £15 \n3. Undercover Table Space (size approx. 0.8m x 2m) Only 15 of these spaces are available. £15 \nTo book your slot please click on the Book Here Button
URL:https://pooleyc.com/event/pyc-boat-jumble-2026/
CATEGORIES:Social
ORGANIZER;CN="Keith Askew":MAILTO:treasurer@pyccruising-section.co.uk
END:VEVENT
BEGIN:VEVENT
DTSTART;TZID=UTC:20260501T180000
DTEND;TZID=UTC:20260501T213000
DTSTAMP:20260423T103838
CREATED:20260421T092105Z
LAST-MODIFIED:20260421T092105Z
UID:2593-1777658400-1777671000@pooleyc.com
SUMMARY:Friendly Friday - BBQ Night
DESCRIPTION:🍔 BBQ Specials Menu:\n• Sweet Chili Chicken Thighs\n• 6oz Lamb Kofta\n• Halloumi & Mediterranean Veg Skewers\n• Cumberland Sausages\n• Ale Marinated Chicken Breast\n• Spinach & Chickpea Falafel Burger \nEnjoy a relaxed Friday evening at the Club. No better way to start the weekend! \n👉 Don’t miss out – see you there!
URL:https://pooleyc.com/event/friendly-friday-bbq-night/
CATEGORIES:Sailing/Social
END:VEVENT
BEGIN:VEVENT
DTSTART;TZID=UTC:20260508T000000
DTEND;TZID=UTC:20260518T235959
DTSTAMP:20260423T103838
CREATED:20260415T144439Z
LAST-MODIFIED:20260417T010440Z
UID:2552-1778198400-1779148799@pooleyc.com
SUMMARY:PYCCS Solent Week Cruise 2026
DESCRIPTION:This trip promises to be full of interest with five stops over eleven days around the Solent. This trip will suit both those new to cruising and the more experienced members that love to sail in company and help newer members enjoy more of their sailing. \nFirst stop on our trip around the Solent is Lymington. \nThis is one of our favourite venues for cruising. There are plenty of eateries\, a great town with many interesting shops\, and even 2 chandlers. \nWe will have full use of the Lymington Harbour’s Dan Bran pontoon and the Lymington Sailing Club’s facilities and bar. This historic\, coastal town offers plenty for the visitors. The colourful and vibrant town is an ancient seaport with a rich maritime history\, and with so much to see and do. Learn about the rich heritage of the town\, enjoy some retail therapy\, treat yourself to delicious food and drink and relax by the water. \nFriday 8th – Sunday 10th May (2 nights) \n  \n \nSecond stop Mercury Yacht Haven on the River Hamble. \nThis marina is set in a sheltered site where the waters of Badnam Creek join the River Hamble. Its excellent facilities include the Gaff Rigger bar and restaurant and a good chandlers. The marina is also just a short walk from Hamble village where you have some interesting shops and eateries. You can also take your dinghy up the river Hamble for a very interesting trip\, \nSunday 10th – Tuesday 12th May (2 nights) \n  \nThird stop Haslar Marina\, Gosport. \nTucked away just inside the south west corner of Portsmouth Harbour\, Haslar Marina is perfectly located for a cruise visit\,  with dining\, drinking\, staying over\, and there is the historic dockyards with the Warrior\, Mary Rose and Victory in Portsmouth. And for the retail therapy there is the Gunwharf Quays Designer Outlet for great shopping. \nThe marina also boast 2 eateries\, and there are others in Gosport nearby. \nTuesday 12th – Friday 15th May (3 nights) \n  \n \nFourth stop is Shepards Marina\, Cowes. \nShepards Wharf Marina is just a short walk from the centre of Cowes with all its shops\, restaurants\, and nautical places of interests. There is a lovely walk along the foreshore past the Cowes gundeck with stunning views over the Solent. The marina has good facilities and an onsite\, award winning\, Basque Kitchen restaurant specialising exquisite cuisine from the Basque Region\, well worth a visit. \nFriday 15th – Sunday 17th May (2 nights) \n  \n \nLast stop is Yarmouth Harbour. Yarmouth is the second smallest town in Great Britain\, and from its lovely harbour to its ancient church and picturesque pier\, this West Wight town has something for everyone. \nThere are plenty of things to do\, some great pubs\, cafes and restaurants\, and lots of super attractions in the area\, and great walks around the local area. Yarmouth is a very special place and many love to visit it. \nSunday 17th – Monday 18th May (1 night) \nWe intend to leave Yarmouth on Monday 18th May and return to Poole. \nAlternative Arrangements: \nWe can adjust the booking for those skippers that may not be able to do the whole trip. If you let us know the times/days you can attend then we can make the neccessary arrangements with the Marina.  \n \nPlease book this cruise and any others you would like to participate in on this booking form link \nPLEASE NOTE: We are now putting a Cut-Off point 1 week before the departure date for all this year’s bookings to help with notifying the marinas and venues. \nOnce your Booking Form has been sent you will immediately receive a confirmation/payment email from our new booking system with the PYCCS bank account details into which you should pay your fees for this cruise. PLEASE NOTE: If you don’t receive this email within 5 minutes\, from sending your booking form\, then please look in your Spam or Junk folders as some email browsers see automated replies from websites as Spam or Junk mail.
URL:https://pooleyc.com/event/pyccs-solent-week-cruise-2026/
CATEGORIES:Sailing,Sailing/Social
ORGANIZER;CN="Peter Hayton":MAILTO:captain@pyccruising-section.co.uk
END:VEVENT
BEGIN:VEVENT
DTSTART;TZID=UTC:20260508T180000
DTEND;TZID=UTC:20260508T213000
DTSTAMP:20260423T103838
CREATED:20260421T093041Z
LAST-MODIFIED:20260421T093041Z
UID:2599-1778263200-1778275800@pooleyc.com
SUMMARY:Friendly Friday Street Food 2026
DESCRIPTION:🍽️ Street Food Menu:\n• Chicken Shawarma Wrap\n• Falafel & Hummus Wrap with Roasted Mediterranean Vegetables (V)\n• Pulled Pork Flatbread\n• Halloumi & Roasted Veg Wrap (V)\n• Dirty Fries (cheese\, jalapeños\, sauces)\n• Chicken Tenders & Fries\n• Chicken Caesar Salad\n• BBQ Slow Cooked Ribs \nEnjoy a relaxed Friday evening with great food and drinks at the Club! 🍻 \n👉 Don’t miss it – see you there!
URL:https://pooleyc.com/event/friendly-friday-street-food-2026/
CATEGORIES:Sailing/Social
END:VEVENT
BEGIN:VEVENT
DTSTART;TZID=UTC:20260509T130000
DTEND;TZID=UTC:20260510T150000
DTSTAMP:20260423T103838
CREATED:20260304T145400Z
LAST-MODIFIED:20260318T131824Z
UID:2245-1778331600-1778425200@pooleyc.com
SUMMARY:Osprey and Contender Open
DESCRIPTION:Please find the Osprey & Contender NoR here. \nEntry form here
URL:https://pooleyc.com/event/osprey-and-contender-open-2/
CATEGORIES:Sailing
END:VEVENT
BEGIN:VEVENT
DTSTART;TZID=UTC:20260515T190000
DTEND;TZID=UTC:20260515T210000
DTSTAMP:20260423T103838
CREATED:20260421T094649Z
LAST-MODIFIED:20260421T100920Z
UID:2603-1778871600-1778878800@pooleyc.com
SUMMARY:Friendly Friday - Comfort Classic
DESCRIPTION:Join us for a cosy and delicious Comfort Classics Night – the perfect way to start your weekend! \n📅 Dates:\n• 15 May\n• 19 June\n• 24 July\n• 28 August \n🍴 Comfort Classics Menu:\n• Sausage & Mash\n• Steak & Chips\n• Hunter’s Chicken\n• Mac & Cheese (V)\n• Chilli Con Carne & Rice \nEnjoy a relaxed Friday evening with great food and drinks at the Club. 🍻 \n👉 We look forward to seeing you there!
URL:https://pooleyc.com/event/2603/
CATEGORIES:Sailing/Social
END:VEVENT
BEGIN:VEVENT
DTSTART;TZID=UTC:20260516T090000
DTEND;TZID=UTC:20260517T170000
DTSTAMP:20260423T103838
CREATED:20260304T145402Z
LAST-MODIFIED:20260304T145402Z
UID:2246-1778922000-1779037200@pooleyc.com
SUMMARY:ILCA Ladies Training Weekend
DESCRIPTION:
URL:https://pooleyc.com/event/ilca-ladies-training-weekend/
CATEGORIES:Sailing
END:VEVENT
BEGIN:VEVENT
DTSTART;TZID=UTC:20260522T190000
DTEND;TZID=UTC:20260522T210000
DTSTAMP:20260423T103838
CREATED:20260421T104817Z
LAST-MODIFIED:20260421T104817Z
UID:2615-1779476400-1779483600@pooleyc.com
SUMMARY:Friendly Friday - Burgers\, Wings & Ribs
DESCRIPTION:Friendly Friday 2026 – Burgers\, Wings & Ribs 🔥 \nGet ready for a big\, bold BBQ-style feast packed with flavour! 🍔🍗🍖 \n📅 Dates:\n• 22 May\n• 26 June\n• 31 July\n• 4 September \n🍽️ On the Menu:\n• Tasty Beef Burger\n• Halloumi Burger\n• Southern Fried Chicken Burger\n• Chorizo & Pork Burger\n• Falafel Burger\n• Minted Lamb Burger\n• Cajun Chicken Burger\n• Pulled Pork Burger\n• BBQ Slow Cooked Ribs \nBring your friends and enjoy a lively Friday night with great food\, drinks\, and atmosphere at the Club! 🍻 \n👉 Don’t miss out – see you there!
URL:https://pooleyc.com/event/friendly-friday-burgers-wings-ribs/
CATEGORIES:Sailing/Social
END:VEVENT
BEGIN:VEVENT
DTSTART;TZID=UTC:20260529T190000
DTEND;TZID=UTC:20260529T210000
DTSTAMP:20260423T103838
CREATED:20260421T105146Z
LAST-MODIFIED:20260421T105225Z
UID:2619-1780081200-1780088400@pooleyc.com
SUMMARY:Friendly Friday – Fish Night
DESCRIPTION:🐟 Friendly Friday 2026 – Fish Specials Night 🐟 \nJoin us for a fantastic evening celebrating the best of fish favourites and seaside classics! 🍽️🍺 \n📅 Dates:\n• 29 May\n• 3 July\n• 7 August\n• 11 September \n🍴 Fish Specials Menu:\n• Thai Fishcake\n• Scampi\n• Fish and Chips\n• Catch of the Day\n• Coconut & Lime Tiger Prawn Curry\n• Fish Fingers Wrap\n• Smoked Salmon Quiche\n• Fisherman’s Pie \nBring your friends and enjoy a relaxed Friday evening with great food and drinks at the Club! 🍻 \n👉 See you there!
URL:https://pooleyc.com/event/friendly-friday-fish-specials-night/
CATEGORIES:Sailing/Social
END:VEVENT
BEGIN:VEVENT
DTSTART;TZID=UTC:20260605T190000
DTEND;TZID=UTC:20260605T213000
DTSTAMP:20260423T103838
CREATED:20260421T092204Z
LAST-MODIFIED:20260421T092204Z
UID:2595-1780686000-1780695000@pooleyc.com
SUMMARY:Friendly Friday - BBQ Night
DESCRIPTION:🍔 BBQ Specials Menu:\n• Sweet Chili Chicken Thighs\n• 6oz Lamb Kofta\n• Halloumi & Mediterranean Veg Skewers\n• Cumberland Sausages\n• Ale Marinated Chicken Breast\n• Spinach & Chickpea Falafel Burger \nEnjoy a relaxed Friday evening at the Club. No better way to start the weekend! \n👉 Don’t miss out – see you there!
URL:https://pooleyc.com/event/friendly-friday-bbq-night-2/
CATEGORIES:Sailing/Social
END:VEVENT
BEGIN:VEVENT
DTSTART;TZID=UTC:20260612T180000
DTEND;TZID=UTC:20260612T213000
DTSTAMP:20260423T103838
CREATED:20260421T093137Z
LAST-MODIFIED:20260421T094409Z
UID:2601-1781287200-1781299800@pooleyc.com
SUMMARY:Friendly Friday Street Food 2026
DESCRIPTION:🍽️ Street Food Menu:\n• Chicken Shawarma Wrap\n• Falafel & Hummus Wrap with Roasted Mediterranean Vegetables (V)\n• Pulled Pork Flatbread\n• Halloumi & Roasted Veg Wrap (V)\n• Dirty Fries (cheese\, jalapeños\, sauces)\n• Chicken Tenders & Fries\n• Chicken Caesar Salad\n• BBQ Slow Cooked Ribs \nEnjoy a relaxed Friday evening with great food and drinks at the Club! 🍻 \n👉 Don’t miss it – see you there!
URL:https://pooleyc.com/event/friendly-friday-street-food-2026-2/
CATEGORIES:Sailing/Social
END:VEVENT
BEGIN:VEVENT
DTSTART;TZID=UTC:20260619T190000
DTEND;TZID=UTC:20260619T210000
DTSTAMP:20260423T103838
CREATED:20260421T104536Z
LAST-MODIFIED:20260421T104536Z
UID:2613-1781895600-1781902800@pooleyc.com
SUMMARY:Friendly Friday - Comfort Classic
DESCRIPTION:Join us for a cosy and delicious Comfort Classics Night – the perfect way to start your weekend! \n📅 Dates:\n• 15 May\n• 19 June\n• 24 July\n• 28 August \n🍴 Comfort Classics Menu:\n• Sausage & Mash\n• Steak & Chips\n• Hunter’s Chicken\n• Mac & Cheese (V)\n• Chilli Con Carne & Rice \nEnjoy a relaxed Friday evening with great food and drinks at the Club. 🍻 \n👉 We look forward to seeing you there!
URL:https://pooleyc.com/event/friendly-friday-comfort-classic/
CATEGORIES:Sailing/Social
END:VEVENT
BEGIN:VEVENT
DTSTART;TZID=UTC:20260620T190000
DTEND;TZID=UTC:20260620T190000
DTSTAMP:20260423T103838
CREATED:20250530T104621Z
LAST-MODIFIED:20250530T132447Z
UID:895-1781982000-1781982000@pooleyc.com
SUMMARY:PYRA Race to Cherbourg
DESCRIPTION:Race to Cherbourg and return
URL:https://pooleyc.com/event/pyra-race-to-cherbourg/
CATEGORIES:Sailing
END:VEVENT
BEGIN:VEVENT
DTSTART;TZID=UTC:20260626T190000
DTEND;TZID=UTC:20260626T210000
DTSTAMP:20260423T103838
CREATED:20260421T104920Z
LAST-MODIFIED:20260421T104920Z
UID:2617-1782500400-1782507600@pooleyc.com
SUMMARY:Friendly Friday  – Burgers\, Wings & Ribs
DESCRIPTION:Friendly Friday 2026 – Burgers\, Wings & Ribs 🔥 \nGet ready for a big\, bold BBQ-style feast packed with flavour! 🍔🍗🍖 \n📅 Dates:\n• 22 May\n• 26 June\n• 31 July\n• 4 September \n🍽️ On the Menu:\n• Tasty Beef Burger\n• Halloumi Burger\n• Southern Fried Chicken Burger\n• Chorizo & Pork Burger\n• Falafel Burger\n• Minted Lamb Burger\n• Cajun Chicken Burger\n• Pulled Pork Burger\n• BBQ Slow Cooked Ribs \nBring your friends and enjoy a lively Friday night with great food\, drinks\, and atmosphere at the Club! 🍻 \n👉 Don’t miss out – see you there!
URL:https://pooleyc.com/event/friendly-friday-burgers-wings-ribs-2/
CATEGORIES:Sailing/Social
END:VEVENT
BEGIN:VEVENT
DTSTART;TZID=UTC:20260703T190000
DTEND;TZID=UTC:20260703T213000
DTSTAMP:20260423T103838
CREATED:20260421T105338Z
LAST-MODIFIED:20260421T105646Z
UID:2623-1783105200-1783114200@pooleyc.com
SUMMARY:Friendly Friday - Fish Night
DESCRIPTION:🐟 Friendly Friday 2026 – Fish Specials Night 🐟 \nJoin us for a fantastic evening celebrating the best of fish favourites and seaside classics! 🍽️🍺 \n📅 Dates:\n• 29 May\n• 3 July\n• 7 August\n• 11 September \n🍴 Fish Specials Menu:\n• Thai Fishcake\n• Scampi\n• Fish and Chips\n• Catch of the Day\n• Coconut & Lime Tiger Prawn Curry\n• Fish Fingers Wrap\n• Smoked Salmon Quiche\n• Fisherman’s Pie \nBring your friends and enjoy a relaxed Friday evening with great food and drinks at the Club! 🍻 \n👉 See you there!
URL:https://pooleyc.com/event/friendly-friday-fish-night/
CATEGORIES:Sailing/Social
END:VEVENT
BEGIN:VEVENT
DTSTART;TZID=UTC:20260704T090000
DTEND;TZID=UTC:20260705T160000
DTSTAMP:20260423T103838
CREATED:20260304T145403Z
LAST-MODIFIED:20260304T145403Z
UID:2247-1783155600-1783267200@pooleyc.com
SUMMARY:ITCA Inviational Topper Training
DESCRIPTION:
URL:https://pooleyc.com/event/itca-inviational-topper-training/
CATEGORIES:Sailing
END:VEVENT
BEGIN:VEVENT
DTSTART;TZID=UTC:20260710T180000
DTEND;TZID=UTC:20260710T213000
DTSTAMP:20260423T103838
CREATED:20260421T092256Z
LAST-MODIFIED:20260421T092256Z
UID:2597-1783706400-1783719000@pooleyc.com
SUMMARY:Friendly Friday - BBQ Night
DESCRIPTION:🍔 BBQ Specials Menu:\n• Sweet Chili Chicken Thighs\n• 6oz Lamb Kofta\n• Halloumi & Mediterranean Veg Skewers\n• Cumberland Sausages\n• Ale Marinated Chicken Breast\n• Spinach & Chickpea Falafel Burger \nEnjoy a relaxed Friday evening at the Club. No better way to start the weekend! \n👉 Don’t miss out – see you there!
URL:https://pooleyc.com/event/friendly-friday-bbq-night-3/
CATEGORIES:Sailing/Social
END:VEVENT
BEGIN:VEVENT
DTSTART;TZID=UTC:20260711T190000
DTEND;TZID=UTC:20260711T223000
DTSTAMP:20260423T103838
CREATED:20260304T145403Z
LAST-MODIFIED:20260304T145403Z
UID:2248-1783796400-1783809000@pooleyc.com
SUMMARY:Big Birthday
DESCRIPTION:
URL:https://pooleyc.com/event/big-birthday/
CATEGORIES:Private
END:VEVENT
BEGIN:VEVENT
DTSTART;TZID=UTC:20260725T090000
DTEND;TZID=UTC:20260730T180000
DTSTAMP:20260423T103838
CREATED:20260304T145155Z
LAST-MODIFIED:20260304T145404Z
UID:2249-1784970000-1785434400@pooleyc.com
SUMMARY:YW Dayboat Nationals
DESCRIPTION:
URL:https://pooleyc.com/event/yw-dayboat-nationals/
CATEGORIES:Sailing
END:VEVENT
BEGIN:VEVENT
DTSTART;TZID=UTC:20261113T200000
DTEND;TZID=UTC:20261113T230000
DTSTAMP:20260423T103838
CREATED:20260306T152057Z
LAST-MODIFIED:20260306T152104Z
UID:2349-1794600000-1794610800@pooleyc.com
SUMMARY:BINGO
DESCRIPTION:After the success of our January evening we are slotting in another date for your diaries\nIt was such fun – lets do it all again\nEyes down for a full House !!
URL:https://pooleyc.com/event/bingo/
CATEGORIES:Social
END:VEVENT
BEGIN:VEVENT
DTSTART;TZID=UTC:20261231T193000
DTEND;TZID=UTC:20270101T004500
DTSTAMP:20260423T103838
CREATED:20260304T144719Z
LAST-MODIFIED:20260304T145504Z
UID:2269-1798745400-1798764300@pooleyc.com
SUMMARY:PYC NEW YEAR BARN DANCE
DESCRIPTION:
URL:https://pooleyc.com/event/pyc-new-year-barn-dance/
CATEGORIES:Social
END:VEVENT
END:VCALENDAR